Package: viper Version: 1.41.0 Command: /Library/Frameworks/R.framework/Resources/bin/R CMD check --install=check:viper.install-out.txt --library=/Library/Frameworks/R.framework/Resources/library --no-vignettes --timings viper_1.41.0.tar.gz StartedAt: 2025-02-10 00:19:58 -0500 (Mon, 10 Feb 2025) EndedAt: 2025-02-10 00:24:18 -0500 (Mon, 10 Feb 2025) EllapsedTime: 260.0 seconds RetCode: 0 Status: WARNINGS CheckDir: viper.Rcheck Warnings: 1