Package: viper Version: 1.41.0 Command: /Library/Frameworks/R.framework/Resources/bin/R CMD INSTALL viper StartedAt: 2025-02-09 15:32:02 -0500 (Sun, 09 Feb 2025) EndedAt: 2025-02-09 15:32:21 -0500 (Sun, 09 Feb 2025) EllapsedTime: 18.4 seconds RetCode: 0 Status: OK