Package: viper Version: 1.41.0 Command: E:\biocbuild\bbs-3.21-bioc\R\bin\R.exe CMD INSTALL viper StartedAt: 2025-02-03 16:08:49 -0500 (Mon, 03 Feb 2025) EndedAt: 2025-02-03 16:09:21 -0500 (Mon, 03 Feb 2025) EllapsedTime: 32.3 seconds RetCode: 0 Status: OK