Package: vsclust Version: 1.9.10 Command: /home/biocbuild/bbs-3.21-bioc/R/bin/R CMD build --keep-empty-dirs --no-resave-data vsclust StartedAt: 2025-02-09 19:44:29 -0500 (Sun, 09 Feb 2025) EndedAt: 2025-02-09 19:46:39 -0500 (Sun, 09 Feb 2025) EllapsedTime: 130.1 seconds RetCode: 0 Status: OK PackageFile: vsclust_1.9.10.tar.gz PackageFileSize: 3.657 MiB