Package: vsclust Version: 1.9.10 Command: /home/biocbuild/bbs-3.21-bioc/R/bin/R CMD check --install=check:vsclust.install-out.txt --library=/home/biocbuild/bbs-3.21-bioc/R/site-library --timings vsclust_1.9.10.tar.gz StartedAt: 2025-02-04 03:49:35 -0500 (Tue, 04 Feb 2025) EndedAt: 2025-02-04 03:57:52 -0500 (Tue, 04 Feb 2025) EllapsedTime: 496.5 seconds RetCode: 1 Status: ERROR CheckDir: vsclust.Rcheck Warnings: NA