Package: vsclust Version: 1.9.10 Command: /home/biocbuild/bbs-3.21-bioc/R/bin/R CMD INSTALL vsclust StartedAt: 2025-02-09 15:19:27 -0500 (Sun, 09 Feb 2025) EndedAt: 2025-02-09 15:20:00 -0500 (Sun, 09 Feb 2025) EllapsedTime: 33.7 seconds RetCode: 0 Status: OK