Package: vsclust Version: 1.9.10 Command: chmod a+r vsclust -R && E:\biocbuild\bbs-3.21-bioc\R\bin\R.exe CMD build --keep-empty-dirs --no-resave-data vsclust StartedAt: 2025-02-09 22:16:41 -0500 (Sun, 09 Feb 2025) EndedAt: 2025-02-09 22:19:48 -0500 (Sun, 09 Feb 2025) EllapsedTime: 187.1 seconds RetCode: 0 Status: OK PackageFile: vsclust_1.9.10.tar.gz PackageFileSize: 1.883 MiB