Package: vsclust Version: 1.9.10 Command: E:\biocbuild\bbs-3.21-bioc\R\bin\R.exe CMD check --no-multiarch --install=check:vsclust.install-out.txt --library=E:\biocbuild\bbs-3.21-bioc\R\library --no-vignettes --timings vsclust_1.9.10.tar.gz StartedAt: 2025-02-10 06:33:14 -0500 (Mon, 10 Feb 2025) EndedAt: 2025-02-10 06:39:31 -0500 (Mon, 10 Feb 2025) EllapsedTime: 377.1 seconds RetCode: 0 Status: WARNINGS CheckDir: vsclust.Rcheck Warnings: 1