Package: vsn Version: 3.75.0 Command: rm -rf vsn.buildbin-libdir && mkdir vsn.buildbin-libdir && /Users/biocbuild/BBS/utils/build-universal.sh vsn_3.75.0.tar.gz /Library/Frameworks/R.framework/Resources/bin/R vsn.buildbin-libdir StartedAt: 2025-02-03 23:10:27 -0500 (Mon, 03 Feb 2025) EndedAt: 2025-02-03 23:10:32 -0500 (Mon, 03 Feb 2025) EllapsedTime: 5.1 seconds RetCode: 0 Status: OK PackageFile: vsn_3.75.0.tgz PackageFileSize: 2.511 MiB