Package: vsn Version: 3.75.0 Command: /Library/Frameworks/R.framework/Resources/bin/R CMD build --keep-empty-dirs --no-resave-data vsn StartedAt: 2025-02-09 17:53:58 -0500 (Sun, 09 Feb 2025) EndedAt: 2025-02-09 17:54:19 -0500 (Sun, 09 Feb 2025) EllapsedTime: 21.2 seconds RetCode: 0 Status: OK PackageFile: vsn_3.75.0.tar.gz PackageFileSize: 2.254 MiB