Package: vsn Version: 3.75.0 Command: /Library/Frameworks/R.framework/Resources/bin/R CMD check --install=check:vsn.install-out.txt --library=/Library/Frameworks/R.framework/Resources/library --no-vignettes --timings vsn_3.75.0.tar.gz StartedAt: 2025-02-09 21:56:32 -0500 (Sun, 09 Feb 2025) EndedAt: 2025-02-09 21:56:56 -0500 (Sun, 09 Feb 2025) EllapsedTime: 24.3 seconds RetCode: 0 Status: OK CheckDir: vsn.Rcheck Warnings: 0