Package: vsn Version: 3.75.0 Command: /Library/Frameworks/R.framework/Resources/bin/R CMD INSTALL vsn StartedAt: 2025-02-09 15:06:24 -0500 (Sun, 09 Feb 2025) EndedAt: 2025-02-09 15:06:28 -0500 (Sun, 09 Feb 2025) EllapsedTime: 4.0 seconds RetCode: 0 Status: OK