Package: vsn Version: 3.75.0 Command: /home/biocbuild/R/R/bin/R CMD build --keep-empty-dirs --no-resave-data vsn StartedAt: 2025-01-28 03:09:34 -0000 (Tue, 28 Jan 2025) EndedAt: 2025-01-28 03:10:40 -0000 (Tue, 28 Jan 2025) EllapsedTime: 66.0 seconds RetCode: 0 Status: OK PackageFile: vsn_3.75.0.tar.gz PackageFileSize: 1.349 MiB