Package: vsn Version: 3.75.0 Command: /home/biocbuild/R/R/bin/R CMD INSTALL vsn StartedAt: 2025-01-29 19:41:17 -0000 (Wed, 29 Jan 2025) EndedAt: 2025-01-29 19:41:29 -0000 (Wed, 29 Jan 2025) EllapsedTime: 12.0 seconds RetCode: 0 Status: OK