Package: vsn Version: 3.75.0 Command: rm -rf vsn.buildbin-libdir && mkdir vsn.buildbin-libdir && /Users/biocbuild/BBS/utils/build-universal.sh vsn_3.75.0.tar.gz /Library/Frameworks/R.framework/Resources/bin/R vsn.buildbin-libdir StartedAt: 2025-02-10 01:22:14 -0500 (Mon, 10 Feb 2025) EndedAt: 2025-02-10 01:22:30 -0500 (Mon, 10 Feb 2025) EllapsedTime: 16.2 seconds RetCode: 0 Status: OK PackageFile: vsn_3.75.0.tgz PackageFileSize: 2.509 MiB