Package: vsn Version: 3.75.0 Command: /Library/Frameworks/R.framework/Resources/bin/R CMD check --install=check:vsn.install-out.txt --library=/Library/Frameworks/R.framework/Resources/library --no-vignettes --timings vsn_3.75.0.tar.gz StartedAt: 2025-02-10 00:21:23 -0500 (Mon, 10 Feb 2025) EndedAt: 2025-02-10 00:22:38 -0500 (Mon, 10 Feb 2025) EllapsedTime: 75.1 seconds RetCode: 0 Status: OK CheckDir: vsn.Rcheck Warnings: 0