Package: vsn Version: 3.75.0 Command: /Library/Frameworks/R.framework/Resources/bin/R CMD INSTALL vsn StartedAt: 2025-02-03 15:14:07 -0500 (Mon, 03 Feb 2025) EndedAt: 2025-02-03 15:14:21 -0500 (Mon, 03 Feb 2025) EllapsedTime: 13.9 seconds RetCode: 0 Status: OK