Package: vsn Version: 3.75.0 Command: /home/biocbuild/bbs-3.21-bioc/R/bin/R CMD build --keep-empty-dirs --no-resave-data vsn StartedAt: 2025-02-09 19:44:37 -0500 (Sun, 09 Feb 2025) EndedAt: 2025-02-09 19:45:21 -0500 (Sun, 09 Feb 2025) EllapsedTime: 44.0 seconds RetCode: 0 Status: OK PackageFile: vsn_3.75.0.tar.gz PackageFileSize: 1.926 MiB