Package: vsn Version: 3.75.0 Command: /home/biocbuild/bbs-3.21-bioc/R/bin/R CMD INSTALL vsn StartedAt: 2025-02-03 15:21:43 -0500 (Mon, 03 Feb 2025) EndedAt: 2025-02-03 15:21:51 -0500 (Mon, 03 Feb 2025) EllapsedTime: 8.4 seconds RetCode: 0 Status: OK