Package: vsn Version: 3.75.0 Command: chmod a+r vsn -R && E:\biocbuild\bbs-3.21-bioc\R\bin\R.exe CMD build --keep-empty-dirs --no-resave-data vsn StartedAt: 2025-02-03 22:29:40 -0500 (Mon, 03 Feb 2025) EndedAt: 2025-02-03 22:30:56 -0500 (Mon, 03 Feb 2025) EllapsedTime: 76.8 seconds RetCode: 0 Status: OK PackageFile: vsn_3.75.0.tar.gz PackageFileSize: 1.304 MiB