Package: vsn Version: 3.75.0 Command: E:\biocbuild\bbs-3.21-bioc\R\bin\R.exe CMD INSTALL vsn StartedAt: 2025-02-09 15:32:37 -0500 (Sun, 09 Feb 2025) EndedAt: 2025-02-09 15:33:02 -0500 (Sun, 09 Feb 2025) EllapsedTime: 25.7 seconds RetCode: 0 Status: OK