Package: vtpnet Version: 0.47.0 Command: /Library/Frameworks/R.framework/Resources/bin/R CMD build --keep-empty-dirs --no-resave-data vtpnet StartedAt: 2025-02-09 17:54:01 -0500 (Sun, 09 Feb 2025) EndedAt: 2025-02-09 17:54:41 -0500 (Sun, 09 Feb 2025) EllapsedTime: 40.4 seconds RetCode: 0 Status: OK PackageFile: vtpnet_0.47.0.tar.gz PackageFileSize: 20.22 MiB