Package: vtpnet Version: 0.47.0 Command: rm -rf vtpnet.buildbin-libdir && mkdir vtpnet.buildbin-libdir && /Users/biocbuild/BBS/utils/build-universal.sh vtpnet_0.47.0.tar.gz /Library/Frameworks/R.framework/Resources/bin/R vtpnet.buildbin-libdir StartedAt: 2025-02-13 01:04:24 -0500 (Thu, 13 Feb 2025) EndedAt: 2025-02-13 01:05:22 -0500 (Thu, 13 Feb 2025) EllapsedTime: 57.6 seconds RetCode: 0 Status: OK PackageFile: vtpnet_0.47.0.tgz PackageFileSize: 20.24 MiB