Package: vtpnet Version: 0.47.0 Command: /home/biocbuild/bbs-3.21-bioc/R/bin/R CMD check --install=check:vtpnet.install-out.txt --library=/home/biocbuild/bbs-3.21-bioc/R/site-library --timings vtpnet_0.47.0.tar.gz StartedAt: 2025-02-10 03:43:45 -0500 (Mon, 10 Feb 2025) EndedAt: 2025-02-10 03:49:44 -0500 (Mon, 10 Feb 2025) EllapsedTime: 359.4 seconds RetCode: 0 Status: OK CheckDir: vtpnet.Rcheck Warnings: 0