Package: vtpnet Version: 0.47.0 Command: chmod a+r vtpnet -R && E:\biocbuild\bbs-3.21-bioc\R\bin\R.exe CMD build --keep-empty-dirs --no-resave-data vtpnet StartedAt: 2025-02-09 22:17:26 -0500 (Sun, 09 Feb 2025) EndedAt: 2025-02-09 22:19:12 -0500 (Sun, 09 Feb 2025) EllapsedTime: 105.6 seconds RetCode: 0 Status: OK PackageFile: vtpnet_0.47.0.tar.gz PackageFileSize: 20.12 MiB