Package: vulcan Version: 1.29.0 Command: rm -rf vulcan.buildbin-libdir && mkdir vulcan.buildbin-libdir && /Users/biocbuild/BBS/utils/build-universal.sh vulcan_1.29.0.tar.gz /Library/Frameworks/R.framework/Resources/bin/R vulcan.buildbin-libdir StartedAt: 2025-02-09 22:34:49 -0500 (Sun, 09 Feb 2025) EndedAt: 2025-02-09 22:35:15 -0500 (Sun, 09 Feb 2025) EllapsedTime: 26.5 seconds RetCode: 0 Status: OK PackageFile: vulcan_1.29.0.tgz PackageFileSize: 464.2 KiB