Package: vulcan Version: 1.29.0 Command: /Library/Frameworks/R.framework/Resources/bin/R CMD INSTALL vulcan StartedAt: 2025-02-09 15:38:16 -0500 (Sun, 09 Feb 2025) EndedAt: 2025-02-09 15:39:38 -0500 (Sun, 09 Feb 2025) EllapsedTime: 81.4 seconds RetCode: 0 Status: OK