Package: vulcan Version: 1.29.0 Command: /home/biocbuild/bbs-3.21-bioc/R/bin/R CMD build --keep-empty-dirs --no-resave-data vulcan StartedAt: 2025-02-09 19:45:18 -0500 (Sun, 09 Feb 2025) EndedAt: 2025-02-09 19:46:43 -0500 (Sun, 09 Feb 2025) EllapsedTime: 85.1 seconds RetCode: 0 Status: OK PackageFile: vulcan_1.29.0.tar.gz PackageFileSize: 390.3 KiB