Package: vulcan Version: 1.29.0 Command: /home/biocbuild/bbs-3.21-bioc/R/bin/R CMD INSTALL vulcan StartedAt: 2025-02-09 15:58:23 -0500 (Sun, 09 Feb 2025) EndedAt: 2025-02-09 15:59:23 -0500 (Sun, 09 Feb 2025) EllapsedTime: 59.9 seconds RetCode: 0 Status: OK