Package: vulcan Version: 1.29.0 Command: rm -rf vulcan.buildbin-libdir && mkdir vulcan.buildbin-libdir && E:\biocbuild\bbs-3.21-bioc\R\bin\R.exe CMD INSTALL --build --library=vulcan.buildbin-libdir vulcan_1.29.0.tar.gz StartedAt: 2025-02-13 09:07:52 -0500 (Thu, 13 Feb 2025) EndedAt: 2025-02-13 09:09:05 -0500 (Thu, 13 Feb 2025) EllapsedTime: 73.4 seconds RetCode: 0 Status: OK PackageFile: vulcan_1.29.0.zip PackageFileSize: 329.4 KiB