Package: vulcan Version: 1.29.0 Command: chmod a+r vulcan -R && E:\biocbuild\bbs-3.21-bioc\R\bin\R.exe CMD build --keep-empty-dirs --no-resave-data vulcan StartedAt: 2025-02-09 22:17:37 -0500 (Sun, 09 Feb 2025) EndedAt: 2025-02-09 22:19:27 -0500 (Sun, 09 Feb 2025) EllapsedTime: 109.7 seconds RetCode: 0 Status: OK PackageFile: vulcan_1.29.0.tar.gz PackageFileSize: 254.1 KiB