Package: vulcan Version: 1.29.0 Command: E:\biocbuild\bbs-3.21-bioc\R\bin\R.exe CMD check --no-multiarch --install=check:vulcan.install-out.txt --library=E:\biocbuild\bbs-3.21-bioc\R\library --no-vignettes --timings vulcan_1.29.0.tar.gz StartedAt: 2025-02-13 06:45:34 -0500 (Thu, 13 Feb 2025) EndedAt: 2025-02-13 06:53:26 -0500 (Thu, 13 Feb 2025) EllapsedTime: 472.1 seconds RetCode: 0 Status: OK CheckDir: vulcan.Rcheck Warnings: 0