Package: wavClusteR Version: 2.41.0 Command: rm -rf wavClusteR.buildbin-libdir && mkdir wavClusteR.buildbin-libdir && /Users/biocbuild/BBS/utils/build-universal.sh wavClusteR_2.41.0.tar.gz /Library/Frameworks/R.framework/Resources/bin/R wavClusteR.buildbin-libdir StartedAt: 2025-02-12 22:40:02 -0500 (Wed, 12 Feb 2025) EndedAt: 2025-02-12 22:40:19 -0500 (Wed, 12 Feb 2025) EllapsedTime: 17.4 seconds RetCode: 0 Status: OK PackageFile: wavClusteR_2.41.0.tgz PackageFileSize: 897.6 KiB