Package: wavClusteR Version: 2.41.0 Command: /Library/Frameworks/R.framework/Resources/bin/R CMD check --install=check:wavClusteR.install-out.txt --library=/Library/Frameworks/R.framework/Resources/library --no-vignettes --timings wavClusteR_2.41.0.tar.gz StartedAt: 2025-02-09 21:56:49 -0500 (Sun, 09 Feb 2025) EndedAt: 2025-02-09 21:58:34 -0500 (Sun, 09 Feb 2025) EllapsedTime: 105.2 seconds RetCode: 0 Status: OK CheckDir: wavClusteR.Rcheck Warnings: 0