Package: wavClusteR Version: 2.41.0 Command: /Library/Frameworks/R.framework/Resources/bin/R CMD INSTALL wavClusteR StartedAt: 2025-02-09 15:15:42 -0500 (Sun, 09 Feb 2025) EndedAt: 2025-02-09 15:15:57 -0500 (Sun, 09 Feb 2025) EllapsedTime: 15.4 seconds RetCode: 0 Status: OK