Package: wavClusteR Version: 2.41.0 Command: /home/biocbuild/R/R/bin/R CMD build --keep-empty-dirs --no-resave-data wavClusteR StartedAt: 2025-01-28 03:11:37 -0000 (Tue, 28 Jan 2025) EndedAt: 2025-01-28 03:13:04 -0000 (Tue, 28 Jan 2025) EllapsedTime: 87.0 seconds RetCode: 0 Status: OK PackageFile: wavClusteR_2.41.0.tar.gz PackageFileSize: 550.8 KiB