Package: wavClusteR Version: 2.41.0 Command: /Library/Frameworks/R.framework/Resources/bin/R CMD build --keep-empty-dirs --no-resave-data wavClusteR StartedAt: 2025-02-12 18:41:48 -0500 (Wed, 12 Feb 2025) EndedAt: 2025-02-12 18:43:01 -0500 (Wed, 12 Feb 2025) EllapsedTime: 73.1 seconds RetCode: 0 Status: OK PackageFile: wavClusteR_2.41.0.tar.gz PackageFileSize: 789.5 KiB