Package: wavClusteR Version: 2.41.0 Command: /home/biocbuild/bbs-3.21-bioc/R/bin/R CMD INSTALL wavClusteR StartedAt: 2025-02-12 15:38:34 -0500 (Wed, 12 Feb 2025) EndedAt: 2025-02-12 15:39:13 -0500 (Wed, 12 Feb 2025) EllapsedTime: 39.4 seconds RetCode: 0 Status: OK