Package: wavClusteR Version: 2.41.0 Command: E:\biocbuild\bbs-3.21-bioc\R\bin\R.exe CMD check --no-multiarch --install=check:wavClusteR.install-out.txt --library=E:\biocbuild\bbs-3.21-bioc\R\library --no-vignettes --timings wavClusteR_2.41.0.tar.gz StartedAt: 2025-02-10 06:34:39 -0500 (Mon, 10 Feb 2025) EndedAt: 2025-02-10 06:40:06 -0500 (Mon, 10 Feb 2025) EllapsedTime: 327.5 seconds RetCode: 0 Status: OK CheckDir: wavClusteR.Rcheck Warnings: 0