Package: wavClusteR Version: 2.41.0 Command: E:\biocbuild\bbs-3.21-bioc\R\bin\R.exe CMD INSTALL wavClusteR StartedAt: 2025-02-09 16:24:54 -0500 (Sun, 09 Feb 2025) EndedAt: 2025-02-09 16:25:45 -0500 (Sun, 09 Feb 2025) EllapsedTime: 51.2 seconds RetCode: 0 Status: OK