Package: webbioc Version: 1.79.0 Command: /Library/Frameworks/R.framework/Resources/bin/R CMD build --keep-empty-dirs --no-resave-data webbioc StartedAt: 2025-02-04 17:55:00 -0500 (Tue, 04 Feb 2025) EndedAt: 2025-02-04 17:55:12 -0500 (Tue, 04 Feb 2025) EllapsedTime: 12.1 seconds RetCode: 0 Status: OK PackageFile: webbioc_1.79.0.tar.gz PackageFileSize: 312.2 KiB