Package: webbioc Version: 1.79.0 Command: /Library/Frameworks/R.framework/Resources/bin/R CMD INSTALL webbioc StartedAt: 2025-02-04 15:22:21 -0500 (Tue, 04 Feb 2025) EndedAt: 2025-02-04 15:22:29 -0500 (Tue, 04 Feb 2025) EllapsedTime: 8.1 seconds RetCode: 0 Status: OK