Package: webbioc Version: 1.79.0 Command: /home/biocbuild/R/R/bin/R CMD build --keep-empty-dirs --no-resave-data webbioc StartedAt: 2025-01-28 03:11:43 -0000 (Tue, 28 Jan 2025) EndedAt: 2025-01-28 03:12:13 -0000 (Tue, 28 Jan 2025) EllapsedTime: 30.0 seconds RetCode: 0 Status: OK PackageFile: webbioc_1.79.0.tar.gz PackageFileSize: 303.1 KiB