Package: webbioc Version: 1.79.0 Command: /home/biocbuild/R/R/bin/R CMD INSTALL webbioc StartedAt: 2025-01-29 20:21:36 -0000 (Wed, 29 Jan 2025) EndedAt: 2025-01-29 20:22:04 -0000 (Wed, 29 Jan 2025) EllapsedTime: 27.7 seconds RetCode: 0 Status: OK