Package: webbioc Version: 1.79.0 Command: rm -rf webbioc.buildbin-libdir && mkdir webbioc.buildbin-libdir && /Users/biocbuild/BBS/utils/build-universal.sh webbioc_1.79.0.tar.gz /Library/Frameworks/R.framework/Resources/bin/R webbioc.buildbin-libdir StartedAt: 2025-02-05 01:08:03 -0500 (Wed, 05 Feb 2025) EndedAt: 2025-02-05 01:08:38 -0500 (Wed, 05 Feb 2025) EllapsedTime: 35.3 seconds RetCode: 0 Status: OK PackageFile: webbioc_1.79.0.tgz PackageFileSize: 310.8 KiB