Package: webbioc Version: 1.79.0 Command: /Library/Frameworks/R.framework/Resources/bin/R CMD check --install=check:webbioc.install-out.txt --library=/Library/Frameworks/R.framework/Resources/library --no-vignettes --timings webbioc_1.79.0.tar.gz StartedAt: 2025-02-05 00:06:00 -0500 (Wed, 05 Feb 2025) EndedAt: 2025-02-05 00:10:54 -0500 (Wed, 05 Feb 2025) EllapsedTime: 293.6 seconds RetCode: 0 Status: OK CheckDir: webbioc.Rcheck Warnings: 0