Package: webbioc Version: 1.79.0 Command: /home/biocbuild/bbs-3.21-bioc/R/bin/R CMD build --keep-empty-dirs --no-resave-data webbioc StartedAt: 2025-02-04 19:43:26 -0500 (Tue, 04 Feb 2025) EndedAt: 2025-02-04 19:43:51 -0500 (Tue, 04 Feb 2025) EllapsedTime: 25.0 seconds RetCode: 0 Status: OK PackageFile: webbioc_1.79.0.tar.gz PackageFileSize: 312.2 KiB