Package: webbioc Version: 1.79.0 Command: /home/biocbuild/bbs-3.21-bioc/R/bin/R CMD check --install=check:webbioc.install-out.txt --library=/home/biocbuild/bbs-3.21-bioc/R/site-library --timings webbioc_1.79.0.tar.gz StartedAt: 2025-02-05 03:52:39 -0500 (Wed, 05 Feb 2025) EndedAt: 2025-02-05 03:54:13 -0500 (Wed, 05 Feb 2025) EllapsedTime: 94.1 seconds RetCode: 0 Status: OK CheckDir: webbioc.Rcheck Warnings: 0