Package: webbioc Version: 1.79.0 Command: rm -rf webbioc.buildbin-libdir && mkdir webbioc.buildbin-libdir && E:\biocbuild\bbs-3.21-bioc\R\bin\R.exe CMD INSTALL --build --library=webbioc.buildbin-libdir webbioc_1.79.0.tar.gz StartedAt: 2025-02-05 09:10:31 -0500 (Wed, 05 Feb 2025) EndedAt: 2025-02-05 09:10:56 -0500 (Wed, 05 Feb 2025) EllapsedTime: 25.0 seconds RetCode: 0 Status: OK PackageFile: webbioc_1.79.0.zip PackageFileSize: 186.1 KiB