Package: webbioc Version: 1.79.0 Command: E:\biocbuild\bbs-3.21-bioc\R\bin\R.exe CMD check --no-multiarch --install=check:webbioc.install-out.txt --library=E:\biocbuild\bbs-3.21-bioc\R\library --no-vignettes --timings webbioc_1.79.0.tar.gz StartedAt: 2025-02-05 06:57:47 -0500 (Wed, 05 Feb 2025) EndedAt: 2025-02-05 06:59:40 -0500 (Wed, 05 Feb 2025) EllapsedTime: 113.1 seconds RetCode: 0 Status: OK CheckDir: webbioc.Rcheck Warnings: 0